BEGIN:VCALENDAR
VERSION:2.0
PRODID:-//CIRSA - ECPv6.15.17//NONSGML v1.0//EN
CALSCALE:GREGORIAN
METHOD:PUBLISH
X-ORIGINAL-URL:https://www.cirsa.org
X-WR-CALDESC:Events for CIRSA
REFRESH-INTERVAL;VALUE=DURATION:PT1H
X-Robots-Tag:noindex
X-PUBLISHED-TTL:PT1H
BEGIN:VTIMEZONE
TZID:America/Denver
BEGIN:DAYLIGHT
TZOFFSETFROM:-0700
TZOFFSETTO:-0600
TZNAME:MDT
DTSTART:20240310T090000
END:DAYLIGHT
BEGIN:STANDARD
TZOFFSETFROM:-0600
TZOFFSETTO:-0700
TZNAME:MST
DTSTART:20241103T080000
END:STANDARD
BEGIN:DAYLIGHT
TZOFFSETFROM:-0700
TZOFFSETTO:-0600
TZNAME:MDT
DTSTART:20250309T090000
END:DAYLIGHT
BEGIN:STANDARD
TZOFFSETFROM:-0600
TZOFFSETTO:-0700
TZNAME:MST
DTSTART:20251102T080000
END:STANDARD
BEGIN:DAYLIGHT
TZOFFSETFROM:-0700
TZOFFSETTO:-0600
TZNAME:MDT
DTSTART:20260308T090000
END:DAYLIGHT
BEGIN:STANDARD
TZOFFSETFROM:-0600
TZOFFSETTO:-0700
TZNAME:MST
DTSTART:20261101T080000
END:STANDARD
BEGIN:DAYLIGHT
TZOFFSETFROM:-0700
TZOFFSETTO:-0600
TZNAME:MDT
DTSTART:20270314T090000
END:DAYLIGHT
BEGIN:STANDARD
TZOFFSETFROM:-0600
TZOFFSETTO:-0700
TZNAME:MST
DTSTART:20271107T080000
END:STANDARD
END:VTIMEZONE
BEGIN:VEVENT
DTSTART;TZID=America/Denver:20260224T080000
DTEND;TZID=America/Denver:20260224T120000
DTSTAMP:20260420T084349
CREATED:20260112T185457Z
LAST-MODIFIED:20260120T194559Z
UID:27252-1771920000-1771934400@www.cirsa.org
SUMMARY:Flagger Certification
DESCRIPTION:
URL:https://www.cirsa.org/event/flagger-certification-28/
LOCATION:Montrose\, Montrose\, CO
CATEGORIES:Loss Control Event
ORGANIZER;CN="Manuel Garcia":MAILTO:manuelg@cirsa.org
END:VEVENT
BEGIN:VEVENT
DTSTART;TZID=America/Denver:20251120T140000
DTEND;TZID=America/Denver:20251120T150000
DTSTAMP:20260420T084349
CREATED:20250903T175246Z
LAST-MODIFIED:20250903T175246Z
UID:26548-1763647200-1763650800@www.cirsa.org
SUMMARY:Bloodborne Pathogens
DESCRIPTION:
URL:https://www.cirsa.org/event/bloodborne-pathogens-5/
LOCATION:Trinidad\, Trinidad\, CO
CATEGORIES:Loss Control Event
ORGANIZER;CN="Manuel Garcia":MAILTO:manuelg@cirsa.org
END:VEVENT
BEGIN:VEVENT
DTSTART;TZID=America/Denver:20251120T123000
DTEND;TZID=America/Denver:20251120T140000
DTSTAMP:20260420T084349
CREATED:20250903T175729Z
LAST-MODIFIED:20250910T151437Z
UID:26552-1763641800-1763647200@www.cirsa.org
SUMMARY:Chemical Handling Awareness - Trinidad
DESCRIPTION:Pre-registration is required. \nChemical Handling Awareness – This 90-minute course will teach how to store\, handle\, and protect yourself from chemical exposures. Topics include safety data sheets\, personal protective equipment (PPE)\, and cleaning up hazardous materials.
URL:https://www.cirsa.org/event/chemical-handling-awareness-trinidad-2025-2/
LOCATION:Trinidad\, Trinidad\, CO
CATEGORIES:Loss Control Event
ORGANIZER;CN="Manuel Garcia":MAILTO:manuelg@cirsa.org
END:VEVENT
BEGIN:VEVENT
DTSTART;TZID=America/Denver:20251120T080000
DTEND;TZID=America/Denver:20251120T120000
DTSTAMP:20260420T084349
CREATED:20250903T175434Z
LAST-MODIFIED:20250903T175434Z
UID:26550-1763625600-1763640000@www.cirsa.org
SUMMARY:Hazardous Operations
DESCRIPTION:
URL:https://www.cirsa.org/event/hazardous-operations-5/
LOCATION:Trinidad\, Trinidad\, CO
CATEGORIES:Loss Control Event
ORGANIZER;CN="Manuel Garcia":MAILTO:manuelg@cirsa.org
END:VEVENT
BEGIN:VEVENT
DTSTART;TZID=America/Denver:20251119T143000
DTEND;TZID=America/Denver:20251119T160000
DTSTAMP:20260420T084349
CREATED:20250903T171050Z
LAST-MODIFIED:20250910T151349Z
UID:26534-1763562600-1763568000@www.cirsa.org
SUMMARY:Chemical Handling Awareness - Trinidad
DESCRIPTION:Pre-registration is required. \nChemical Handling Awareness – This 90-minute course will teach how to store\, handle\, and protect yourself from chemical exposures. Topics include safety data sheets\, personal protective equipment (PPE)\, and cleaning up hazardous materials.
URL:https://www.cirsa.org/event/chemical-handling-awareness-trinidad-2025/
LOCATION:Trinidad\, Trinidad\, CO
CATEGORIES:Loss Control Event
ORGANIZER;CN="Manuel Garcia":MAILTO:manuelg@cirsa.org
END:VEVENT
BEGIN:VEVENT
DTSTART;TZID=America/Denver:20251119T133000
DTEND;TZID=America/Denver:20251119T143000
DTSTAMP:20260420T084349
CREATED:20250903T175109Z
LAST-MODIFIED:20250903T175109Z
UID:26546-1763559000-1763562600@www.cirsa.org
SUMMARY:Bloodborne Pathogens
DESCRIPTION:
URL:https://www.cirsa.org/event/bloodborne-pathogens-4/
LOCATION:Trinidad\, Trinidad\, CO
CATEGORIES:Loss Control Event
ORGANIZER;CN="Manuel Garcia":MAILTO:manuelg@cirsa.org
END:VEVENT
BEGIN:VEVENT
DTSTART;TZID=America/Denver:20251119T123000
DTEND;TZID=America/Denver:20251119T133000
DTSTAMP:20260420T084349
CREATED:20250903T174644Z
LAST-MODIFIED:20250903T174645Z
UID:26544-1763555400-1763559000@www.cirsa.org
SUMMARY:Slip & Fall Prevention
DESCRIPTION:
URL:https://www.cirsa.org/event/slip-fall-prevention-8/
LOCATION:Trinidad\, Trinidad\, CO
CATEGORIES:Loss Control Event
ORGANIZER;CN="Manuel Garcia":MAILTO:manuelg@cirsa.org
END:VEVENT
BEGIN:VEVENT
DTSTART;TZID=America/Denver:20251119T080000
DTEND;TZID=America/Denver:20251119T120000
DTSTAMP:20260420T084349
CREATED:20250903T171812Z
LAST-MODIFIED:20250903T171812Z
UID:26540-1763539200-1763553600@www.cirsa.org
SUMMARY:Flagger Certification
DESCRIPTION:
URL:https://www.cirsa.org/event/flagger-certification-15/
LOCATION:Trinidad\, Trinidad\, CO
CATEGORIES:Loss Control Event
ORGANIZER;CN="Manuel Garcia":MAILTO:manuelg@cirsa.org
END:VEVENT
BEGIN:VEVENT
DTSTART;TZID=America/Denver:20251118T123000
DTEND;TZID=America/Denver:20251118T153000
DTSTAMP:20260420T084349
CREATED:20250903T174341Z
LAST-MODIFIED:20250903T174341Z
UID:26542-1763469000-1763479800@www.cirsa.org
SUMMARY:Safe Driving Strategies Classroom
DESCRIPTION:
URL:https://www.cirsa.org/event/safe-driving-strategies-classroom-8/
LOCATION:Trinidad\, Trinidad\, CO
CATEGORIES:Loss Control Event
ORGANIZER;CN="Manuel Garcia":MAILTO:manuelg@cirsa.org
END:VEVENT
BEGIN:VEVENT
DTSTART;TZID=America/Denver:20251118T080000
DTEND;TZID=America/Denver:20251118T120000
DTSTAMP:20260420T084349
CREATED:20250903T171450Z
LAST-MODIFIED:20250903T171450Z
UID:26538-1763452800-1763467200@www.cirsa.org
SUMMARY:Flagger Certification
DESCRIPTION:
URL:https://www.cirsa.org/event/flagger-certification-14/
LOCATION:Trinidad\, Trinidad\, CO
CATEGORIES:Loss Control Event
ORGANIZER;CN="Manuel Garcia":MAILTO:manuelg@cirsa.org
END:VEVENT
BEGIN:VEVENT
DTSTART;TZID=America/Denver:20251106T080000
DTEND;TZID=America/Denver:20251106T120000
DTSTAMP:20260420T084349
CREATED:20250724T203556Z
LAST-MODIFIED:20251113T162745Z
UID:26385-1762416000-1762430400@www.cirsa.org
SUMMARY:Confined Space Entry\, Retrieval & Rescue
DESCRIPTION:Pre-registration is required. \nConfined Space Entry\, Retrieval & Rescue – This hands-on course picks up where the confined space awareness course ends. Students will practice actual confined space entries using member provided equipment and facilities. Course length is dependent on the number of attendees and will run a minimum of four hours. This course may receive CCWP Training Units.
URL:https://www.cirsa.org/event/confined-space-entry-retrieval-rescue-3/
LOCATION:Yuma\, Yuma\, CO
CATEGORIES:Loss Control Event
ORGANIZER;CN="Manuel Garcia":MAILTO:manuelg@cirsa.org
END:VEVENT
BEGIN:VEVENT
DTSTART;TZID=America/Denver:20251105T080000
DTEND;TZID=America/Denver:20251105T120000
DTSTAMP:20260420T084349
CREATED:20250724T203234Z
LAST-MODIFIED:20251113T162848Z
UID:26383-1762329600-1762344000@www.cirsa.org
SUMMARY:Hazardous Operations
DESCRIPTION:Pre-registration is required. \nHazardous Operations (HAZOPS) – The HAZOPS seminars cover three of the most hazardous job categories our members face\, lockout/tagout\, confined space entry\, and excavation/trenching. These four and one-half hour awareness level seminars provide the minimum elements every employee should know prior to performing these work tasks. This course may receive CCWP Training Units.
URL:https://www.cirsa.org/event/hazardous-operations-2/
LOCATION:Yuma\, Yuma\, CO
CATEGORIES:Loss Control Event
ORGANIZER;CN="Manuel Garcia":MAILTO:manuelg@cirsa.org
END:VEVENT
BEGIN:VEVENT
DTSTART;TZID=America/Denver:20251029T110000
DTEND;TZID=America/Denver:20251029T120000
DTSTAMP:20260420T084349
CREATED:20250903T165447Z
LAST-MODIFIED:20251024T182901Z
UID:26521-1761735600-1761739200@www.cirsa.org
SUMMARY:Back Injury Prevention-CANCELLED
DESCRIPTION:
URL:https://www.cirsa.org/event/back-injury-prevention-9/
LOCATION:Cortez\, Cortez\, CO
CATEGORIES:Loss Control Event
ORGANIZER;CN="Manuel Garcia":MAILTO:manuelg@cirsa.org
END:VEVENT
BEGIN:VEVENT
DTSTART;TZID=America/Denver:20251029T100000
DTEND;TZID=America/Denver:20251029T110000
DTSTAMP:20260420T084349
CREATED:20250903T164717Z
LAST-MODIFIED:20251024T183042Z
UID:26517-1761732000-1761735600@www.cirsa.org
SUMMARY:Slip & Fall Prevention-CANCELLED
DESCRIPTION:
URL:https://www.cirsa.org/event/slip-fall-prevention-6/
LOCATION:Cortez\, Cortez\, CO
CATEGORIES:Loss Control Event
ORGANIZER;CN="Manuel Garcia":MAILTO:manuelg@cirsa.org
END:VEVENT
BEGIN:VEVENT
DTSTART;TZID=America/Denver:20251029T090000
DTEND;TZID=America/Denver:20251029T100000
DTSTAMP:20260420T084349
CREATED:20250903T165310Z
LAST-MODIFIED:20251113T163207Z
UID:26519-1761728400-1761732000@www.cirsa.org
SUMMARY:Back Injury Prevention
DESCRIPTION:Pre-registration is required. \nBack Injury Prevention – This one hour course provides the student with a different understanding of how the back and core supporting structures work\, how to help prevent core injuries\, lifting techniques and how other parts of the body\, such as the feet\, directly impact core health. Students will perform lifting exercises. This course may receive CCWP Training Units.
URL:https://www.cirsa.org/event/back-injury-prevention-8/
LOCATION:Cortez\, Cortez\, CO
CATEGORIES:Loss Control Event
ORGANIZER;CN="Manuel Garcia":MAILTO:manuelg@cirsa.org
END:VEVENT
BEGIN:VEVENT
DTSTART;TZID=America/Denver:20251029T080000
DTEND;TZID=America/Denver:20251029T090000
DTSTAMP:20260420T084349
CREATED:20250903T164513Z
LAST-MODIFIED:20251113T163338Z
UID:26515-1761724800-1761728400@www.cirsa.org
SUMMARY:Slip & Fall Prevention
DESCRIPTION:Pre-registration is required. \nSlip and Fall Prevention – This course reviews causes and prevention strategies for reducing slips and falls. The goal of this program is to help reduce workers’ compensation and liability exposures. Slip and fall checklists\, ladder safety\, three-point contact\, and various other loss prevention methods are discussed. This course may receive CCWP Training Units. 1 hour.
URL:https://www.cirsa.org/event/slip-fall-prevention-5/
LOCATION:Cortez\, Cortez\, CO
CATEGORIES:Loss Control Event
ORGANIZER;CN="Manuel Garcia":MAILTO:manuelg@cirsa.org
END:VEVENT
BEGIN:VEVENT
DTSTART;TZID=America/Denver:20251028T123000
DTEND;TZID=America/Denver:20251028T133000
DTSTAMP:20260420T084349
CREATED:20250903T163121Z
LAST-MODIFIED:20251113T163403Z
UID:26509-1761654600-1761658200@www.cirsa.org
SUMMARY:Slip & Fall Prevention
DESCRIPTION:Pre-registration is required. \nSlip and Fall Prevention – This course reviews causes and prevention strategies for reducing slips and falls. The goal of this program is to help reduce workers’ compensation and liability exposures. Slip and fall checklists\, ladder safety\, three-point contact\, and various other loss prevention methods are discussed. This course may receive CCWP Training Units. 1 hour.
URL:https://www.cirsa.org/event/slip-fall-prevention-4/
LOCATION:Cortez\, Cortez\, CO
CATEGORIES:Loss Control Event
ORGANIZER;CN="Manuel Garcia":MAILTO:manuelg@cirsa.org
END:VEVENT
BEGIN:VEVENT
DTSTART;TZID=America/Denver:20251028T110000
DTEND;TZID=America/Denver:20251028T120000
DTSTAMP:20260420T084349
CREATED:20250903T163408Z
LAST-MODIFIED:20251113T163429Z
UID:26511-1761649200-1761652800@www.cirsa.org
SUMMARY:Bloodborne Pathogens
DESCRIPTION:Pre-registration is required. \nBloodborne Pathogens Awareness\, Prevention & Disposal – This one hour course is designed to provide an awareness-level understanding of OSHA’S Bloodborne Pathogens Standard\, as adopted by The Colorado Department of Public Health and Environment. The course modules will cover basic program requirements with an emphasis on prevention\, spill clean-up\, and proper disposal. This course may receive CCWP Training Units.
URL:https://www.cirsa.org/event/bloodborne-pathogens-3/
LOCATION:Cortez\, Cortez\, CO
CATEGORIES:Loss Control Event
ORGANIZER;CN="Manuel Garcia":MAILTO:manuelg@cirsa.org
END:VEVENT
BEGIN:VEVENT
DTSTART;TZID=America/Denver:20251028T100000
DTEND;TZID=America/Denver:20251028T110000
DTSTAMP:20260420T084349
CREATED:20250903T162520Z
LAST-MODIFIED:20251113T163452Z
UID:26505-1761645600-1761649200@www.cirsa.org
SUMMARY:Back Injury Prevention
DESCRIPTION:Pre-registration is required. \nBack Injury Prevention – This one hour course provides the student with a different understanding of how the back and core supporting structures work\, how to help prevent core injuries\, lifting techniques and how other parts of the body\, such as the feet\, directly impact core health. Students will perform lifting exercises. This course may receive CCWP Training Units.
URL:https://www.cirsa.org/event/back-injury-prevention-7/
LOCATION:Cortez\, Cortez\, CO
CATEGORIES:Loss Control Event
ORGANIZER;CN="Manuel Garcia":MAILTO:manuelg@cirsa.org
END:VEVENT
BEGIN:VEVENT
DTSTART;TZID=America/Denver:20251028T090000
DTEND;TZID=America/Denver:20251028T100000
DTSTAMP:20260420T084349
CREATED:20250903T162913Z
LAST-MODIFIED:20251113T163517Z
UID:26507-1761642000-1761645600@www.cirsa.org
SUMMARY:Slip & Fall Prevention
DESCRIPTION:Pre-registration is required. \nSlip and Fall Prevention – This course reviews causes and prevention strategies for reducing slips and falls. The goal of this program is to help reduce workers’ compensation and liability exposures. Slip and fall checklists\, ladder safety\, three-point contact\, and various other loss prevention methods are discussed. This course may receive CCWP Training Units. 1 hour.
URL:https://www.cirsa.org/event/slip-fall-prevention-3/
LOCATION:Cortez\, Cortez\, CO
CATEGORIES:Loss Control Event
ORGANIZER;CN="Manuel Garcia":MAILTO:manuelg@cirsa.org
END:VEVENT
BEGIN:VEVENT
DTSTART;TZID=America/Denver:20251028T080000
DTEND;TZID=America/Denver:20251028T090000
DTSTAMP:20260420T084349
CREATED:20250903T154647Z
LAST-MODIFIED:20251113T163614Z
UID:26503-1761638400-1761642000@www.cirsa.org
SUMMARY:Back Injury Prevention
DESCRIPTION:Pre-registration is required. \nBack Injury Prevention – This one hour course provides the student with a different understanding of how the back and core supporting structures work\, how to help prevent core injuries\, lifting techniques and how other parts of the body\, such as the feet\, directly impact core health. Students will perform lifting exercises. This course may receive CCWP Training Units.
URL:https://www.cirsa.org/event/back-injury-prevention-3/
LOCATION:Cortez\, Cortez\, CO
CATEGORIES:Loss Control Event
ORGANIZER;CN="Manuel Garcia":MAILTO:manuelg@cirsa.org
END:VEVENT
BEGIN:VEVENT
DTSTART;TZID=America/Denver:20251023T080000
DTEND;TZID=America/Denver:20251023T110000
DTSTAMP:20260420T084349
CREATED:20250903T154040Z
LAST-MODIFIED:20251113T163732Z
UID:26501-1761206400-1761217200@www.cirsa.org
SUMMARY:Safe Driving Strategies Classroom
DESCRIPTION:
URL:https://www.cirsa.org/event/safe-driving-strategies-classroom-7/
LOCATION:Rocky Ford\, Rocky Ford\, CO
CATEGORIES:Loss Control Event
ORGANIZER;CN="Manuel Garcia":MAILTO:manuelg@cirsa.org
END:VEVENT
BEGIN:VEVENT
DTSTART;TZID=America/Denver:20251021T080000
DTEND;TZID=America/Denver:20251021T120000
DTSTAMP:20260420T084349
CREATED:20250903T153616Z
LAST-MODIFIED:20250924T203234Z
UID:26499-1761033600-1761048000@www.cirsa.org
SUMMARY:Safe Driving Strategies- CANCELED
DESCRIPTION:
URL:https://www.cirsa.org/event/safe-driving-strategies-hands-on-3/
LOCATION:Glendale\, Glendale\, CO
CATEGORIES:Loss Control Event
ORGANIZER;CN="Manuel Garcia":MAILTO:manuelg@cirsa.org
END:VEVENT
BEGIN:VEVENT
DTSTART;TZID=America/Denver:20251016T080000
DTEND;TZID=America/Denver:20251016T120000
DTSTAMP:20260420T084349
CREATED:20250903T152704Z
LAST-MODIFIED:20250903T152704Z
UID:26490-1760601600-1760616000@www.cirsa.org
SUMMARY:Flagger Certification
DESCRIPTION:
URL:https://www.cirsa.org/event/flagger-certification-10/
LOCATION:Winter Park\, Winter Park\, CO
CATEGORIES:Loss Control Event
ORGANIZER;CN="Manuel Garcia":MAILTO:manuelg@cirsa.org
END:VEVENT
BEGIN:VEVENT
DTSTART;TZID=America/Denver:20251009T130000
DTEND;TZID=America/Denver:20251009T160000
DTSTAMP:20260420T084349
CREATED:20250929T192216Z
LAST-MODIFIED:20251113T164058Z
UID:26684-1760014800-1760025600@www.cirsa.org
SUMMARY:Safe Driving Strategies Classroom
DESCRIPTION:
URL:https://www.cirsa.org/event/safe-driving-strategies-classroom-10/
LOCATION:Pueblo\, Pueblo\, CO
CATEGORIES:Loss Control Event
ORGANIZER;CN="Manuel Garcia":MAILTO:manuelg@cirsa.org
END:VEVENT
BEGIN:VEVENT
DTSTART;TZID=America/Denver:20251009T080000
DTEND;TZID=America/Denver:20251009T120000
DTSTAMP:20260420T084349
CREATED:20250929T194916Z
LAST-MODIFIED:20251113T164512Z
UID:26704-1759996800-1760011200@www.cirsa.org
SUMMARY:Forklift Operations
DESCRIPTION:Pre-registration is required. \nFork Lift Operations – This course requires both hands-on and online training components. Students must first complete the online forklift safety course. Student will then navigate an obstacle course and practice safe load lifts. Course length is dependent upon the number of attendees and will usually run a minimum of four hours. This course may receive CCWP Training Units.
URL:https://www.cirsa.org/event/forklift-operations-2/
LOCATION:Pueblo\, Pueblo\, CO
CATEGORIES:Loss Control Event
ORGANIZER;CN="Manuel Garcia":MAILTO:manuelg@cirsa.org
END:VEVENT
BEGIN:VEVENT
DTSTART;TZID=America/Denver:20251008T140000
DTEND;TZID=America/Denver:20251008T150000
DTSTAMP:20260420T084349
CREATED:20250929T194529Z
LAST-MODIFIED:20251113T164134Z
UID:26700-1759932000-1759935600@www.cirsa.org
SUMMARY:Back Injury Prevention
DESCRIPTION:
URL:https://www.cirsa.org/event/back-injury-prevention-11/
LOCATION:Pueblo\, Pueblo\, CO
CATEGORIES:Loss Control Event
ORGANIZER;CN="Manuel Garcia":MAILTO:manuelg@cirsa.org
END:VEVENT
BEGIN:VEVENT
DTSTART;TZID=America/Denver:20251008T130000
DTEND;TZID=America/Denver:20251008T140000
DTSTAMP:20260420T084349
CREATED:20250929T193336Z
LAST-MODIFIED:20251113T164335Z
UID:26694-1759928400-1759932000@www.cirsa.org
SUMMARY:Slip & Fall Prevention
DESCRIPTION:Pre-registration is required. \nSlip and Fall Prevention – This course reviews causes and prevention strategies for reducing slips and falls. The goal of this program is to help reduce workers’ compensation and liability exposures. Slip and fall checklists\, ladder safety\, three-point contact\, and various other loss prevention methods are discussed. This course may receive CCWP Training Units. 1 hour.
URL:https://www.cirsa.org/event/slip-fall-prevention-10/
LOCATION:Pueblo\, Pueblo\, CO
CATEGORIES:Loss Control Event
ORGANIZER;CN="Manuel Garcia":MAILTO:manuelg@cirsa.org
END:VEVENT
BEGIN:VEVENT
DTSTART;TZID=America/Denver:20251008T080000
DTEND;TZID=America/Denver:20251008T120000
DTSTAMP:20260420T084349
CREATED:20250929T200500Z
LAST-MODIFIED:20250929T200500Z
UID:26708-1759910400-1759924800@www.cirsa.org
SUMMARY:Flagger Certification
DESCRIPTION:
URL:https://www.cirsa.org/event/flagger-certification-17/
LOCATION:Pueblo\, Pueblo\, CO
CATEGORIES:Loss Control Event
ORGANIZER;CN="Manuel Garcia":MAILTO:manuelg@cirsa.org
END:VEVENT
BEGIN:VEVENT
DTSTART;TZID=America/Denver:20251007T140000
DTEND;TZID=America/Denver:20251007T153000
DTSTAMP:20260420T084349
CREATED:20250929T201233Z
LAST-MODIFIED:20251113T164412Z
UID:26717-1759845600-1759851000@www.cirsa.org
SUMMARY:Chemical Handling Awareness
DESCRIPTION:Pre-registration is required. \nChemical Handling Awareness – This 90-minute course will teach how to store\, handle\, and protect yourself from chemical exposures. Topics include safety data sheets\, personal protective equipment (PPE)\, and cleaning up hazardous materials.
URL:https://www.cirsa.org/event/chemical-handling-awareness-3/
LOCATION:Pueblo\, Pueblo\, CO
CATEGORIES:Loss Control Event
ORGANIZER;CN="Manuel Garcia":MAILTO:manuelg@cirsa.org
END:VEVENT
END:VCALENDAR