BEGIN:VCALENDAR
VERSION:2.0
PRODID:-//CIRSA - ECPv6.15.17//NONSGML v1.0//EN
CALSCALE:GREGORIAN
METHOD:PUBLISH
X-ORIGINAL-URL:https://www.cirsa.org
X-WR-CALDESC:Events for CIRSA
REFRESH-INTERVAL;VALUE=DURATION:PT1H
X-Robots-Tag:noindex
X-PUBLISHED-TTL:PT1H
BEGIN:VTIMEZONE
TZID:America/Denver
BEGIN:DAYLIGHT
TZOFFSETFROM:-0700
TZOFFSETTO:-0600
TZNAME:MDT
DTSTART:20240310T090000
END:DAYLIGHT
BEGIN:STANDARD
TZOFFSETFROM:-0600
TZOFFSETTO:-0700
TZNAME:MST
DTSTART:20241103T080000
END:STANDARD
BEGIN:DAYLIGHT
TZOFFSETFROM:-0700
TZOFFSETTO:-0600
TZNAME:MDT
DTSTART:20250309T090000
END:DAYLIGHT
BEGIN:STANDARD
TZOFFSETFROM:-0600
TZOFFSETTO:-0700
TZNAME:MST
DTSTART:20251102T080000
END:STANDARD
BEGIN:DAYLIGHT
TZOFFSETFROM:-0700
TZOFFSETTO:-0600
TZNAME:MDT
DTSTART:20260308T090000
END:DAYLIGHT
BEGIN:STANDARD
TZOFFSETFROM:-0600
TZOFFSETTO:-0700
TZNAME:MST
DTSTART:20261101T080000
END:STANDARD
END:VTIMEZONE
BEGIN:VEVENT
DTSTART;TZID=America/Denver:20250819T080000
DTEND;TZID=America/Denver:20250819T120000
DTSTAMP:20260420T202954
CREATED:20250529T191111Z
LAST-MODIFIED:20250529T191111Z
UID:26138-1755590400-1755604800@www.cirsa.org
SUMMARY:Flagger Certification
DESCRIPTION:
URL:https://www.cirsa.org/event/flagger-certification-3/
LOCATION:Castle Rock\, Castle Rock\, CO
CATEGORIES:Loss Control Event
ORGANIZER;CN="Manuel Garcia":MAILTO:manuelg@cirsa.org
END:VEVENT
BEGIN:VEVENT
DTSTART;TZID=America/Denver:20250807T110000
DTEND;TZID=America/Denver:20250807T130000
DTSTAMP:20260420T202954
CREATED:20250630T194742Z
LAST-MODIFIED:20251117T201345Z
UID:26328-1754564400-1754571600@www.cirsa.org
SUMMARY:Stop the Bleed
DESCRIPTION:Pre-registration is required. \nStop the Bleed – Uncontrolled bleeding is the number one cause of preventable death from trauma.This two-hour course will focus on bleeding control for gunshots\, stab wounds\, and other penetration type injuries.Attendees will practice with tourniquets\, learn how to pack wounds\, and apply compression bandages.Prior First Aid experience is not necessary. 2 Hours
URL:https://www.cirsa.org/event/stop-the-bleed-4/
LOCATION:Grand Junction\, Grand Junction\, CO\, United States
CATEGORIES:Loss Control Event
ORGANIZER;CN="Manuel Garcia":MAILTO:manuelg@cirsa.org
END:VEVENT
BEGIN:VEVENT
DTSTART;TZID=America/Denver:20250807T080000
DTEND;TZID=America/Denver:20250807T110000
DTSTAMP:20260420T202954
CREATED:20250630T194503Z
LAST-MODIFIED:20251117T201326Z
UID:26326-1754553600-1754564400@www.cirsa.org
SUMMARY:Safe Driving Strategies Classroom
DESCRIPTION:Pre-registration is required. \nSafe Driving Strategies: Hands-On (3 Season) – This interactive course utilizes member-owned vehicles and adequate parking lots or tracks to allow the student to practice various defensive driving tactics while validating the negative aspects of distracted driving. The length of this course is dependent on the number of students participating\, with a minimum of four hours. This course may receive CCWP Training Units.
URL:https://www.cirsa.org/event/safe-driving-strategies-classroom-6/
LOCATION:Grand Junction\, Grand Junction\, CO\, United States
CATEGORIES:Loss Control Event
ORGANIZER;CN="Manuel Garcia":MAILTO:manuelg@cirsa.org
END:VEVENT
BEGIN:VEVENT
DTSTART;TZID=America/Denver:20250806T110000
DTEND;TZID=America/Denver:20250806T130000
DTSTAMP:20260420T202954
CREATED:20250529T190842Z
LAST-MODIFIED:20251117T201315Z
UID:26136-1754478000-1754485200@www.cirsa.org
SUMMARY:Stop the Bleed
DESCRIPTION:Pre-registration is required. \nStop the Bleed – Uncontrolled bleeding is the number one cause of preventable death from trauma.This two-hour course will focus on bleeding control for gunshots\, stab wounds\, and other penetration type injuries.Attendees will practice with tourniquets\, learn how to pack wounds\, and apply compression bandages.Prior First Aid experience is not necessary. 2 Hours
URL:https://www.cirsa.org/event/stop-the-bleed-3/
LOCATION:Grand Junction\, Grand Junction\, CO\, United States
CATEGORIES:Loss Control Event
ORGANIZER;CN="Manuel Garcia":MAILTO:manuelg@cirsa.org
END:VEVENT
BEGIN:VEVENT
DTSTART;TZID=America/Denver:20250806T080000
DTEND;TZID=America/Denver:20250806T110000
DTSTAMP:20260420T202954
CREATED:20250529T190607Z
LAST-MODIFIED:20251117T201304Z
UID:26132-1754467200-1754478000@www.cirsa.org
SUMMARY:Safe Driving Strategies Classroom
DESCRIPTION:Pre-registration is required. \nSafe Driving Strategies: A Focus on Distracted and Defensive Driving – This three-hour basic defensive driving course covers the most common forms of distracted and defensive driving. Students will use group activities to understand best practices and to evaluate our own driving habits more effectively in order to promote safe driving. This course may receive CCWP Training Units.
URL:https://www.cirsa.org/event/safe-driving-strategies-classroom-5/
LOCATION:Grand Junction\, Grand Junction\, CO\, United States
CATEGORIES:Loss Control Event
ORGANIZER;CN="Manuel Garcia":MAILTO:manuelg@cirsa.org
END:VEVENT
BEGIN:VEVENT
DTSTART;TZID=America/Denver:20250805T110000
DTEND;TZID=America/Denver:20250805T130000
DTSTAMP:20260420T202954
CREATED:20250529T190740Z
LAST-MODIFIED:20251117T201241Z
UID:26134-1754391600-1754398800@www.cirsa.org
SUMMARY:Stop the Bleed
DESCRIPTION:Pre-registration is required. \nStop the Bleed – Uncontrolled bleeding is the number one cause of preventable death from trauma.This two-hour course will focus on bleeding control for gunshots\, stab wounds\, and other penetration type injuries.Attendees will practice with tourniquets\, learn how to pack wounds\, and apply compression bandages.Prior First Aid experience is not necessary. 2 Hours
URL:https://www.cirsa.org/event/stop-the-bleed-2/
LOCATION:Grand Junction\, Grand Junction\, CO\, United States
CATEGORIES:Loss Control Event
ORGANIZER;CN="Manuel Garcia":MAILTO:manuelg@cirsa.org
END:VEVENT
BEGIN:VEVENT
DTSTART;TZID=America/Denver:20250805T080000
DTEND;TZID=America/Denver:20250805T110000
DTSTAMP:20260420T202954
CREATED:20250529T190501Z
LAST-MODIFIED:20251117T201213Z
UID:26130-1754380800-1754391600@www.cirsa.org
SUMMARY:Safe Driving Strategies Classroom
DESCRIPTION:Pre-registration is required. \nSafe Driving Strategies: A Focus on Distracted and Defensive Driving – This three-hour basic defensive driving course covers the most common forms of distracted and defensive driving. Students will use group activities to understand best practices and to evaluate our own driving habits more effectively in order to promote safe driving. This course may receive CCWP Training Units.
URL:https://www.cirsa.org/event/safe-driving-strategies-classroom-4/
LOCATION:Grand Junction\, Grand Junction\, CO\, United States
CATEGORIES:Loss Control Event
ORGANIZER;CN="Manuel Garcia":MAILTO:manuelg@cirsa.org
END:VEVENT
BEGIN:VEVENT
DTSTART;TZID=America/Denver:20250730T100000
DTEND;TZID=America/Denver:20250730T140000
DTSTAMP:20260420T202954
CREATED:20250529T190125Z
LAST-MODIFIED:20251117T201158Z
UID:26128-1753869600-1753884000@www.cirsa.org
SUMMARY:Confined Space Entry\, Retrieval & Rescue
DESCRIPTION:Pre-registration is required. \nConfined Space Entry\, Retrieval & Rescue – This hands-on course picks up where the confined space awareness course ends. Students will practice actual confined space entries using member provided equipment and facilities. Course length is dependent on the number of attendees and will run a minimum of four hours. This course may receive CCWP Training Units.
URL:https://www.cirsa.org/event/confined-space-entry-retrieval-rescue-2/
LOCATION:Eaton\, Eaton\, CO
CATEGORIES:Loss Control Event
ORGANIZER;CN="Manuel Garcia":MAILTO:manuelg@cirsa.org
END:VEVENT
BEGIN:VEVENT
DTSTART;TZID=America/Denver:20250730T080000
DTEND;TZID=America/Denver:20250730T100000
DTSTAMP:20260420T202954
CREATED:20250529T185548Z
LAST-MODIFIED:20251117T201146Z
UID:26121-1753862400-1753869600@www.cirsa.org
SUMMARY:Confined Space Awareness
DESCRIPTION:Pre-registration is required. \nConfined Space Awareness – This two-hour classroom-based module covers the basic elements of confined space safety. Students will learn some of the best practices for permit and non-permit required confined spaces. This course may receive CCWP Training Units.
URL:https://www.cirsa.org/event/confined-space-awareness-3/
LOCATION:Eaton\, Eaton\, CO
CATEGORIES:Loss Control Event
ORGANIZER;CN="Manuel Garcia":MAILTO:manuelg@cirsa.org
END:VEVENT
BEGIN:VEVENT
DTSTART;TZID=America/Denver:20250729T080000
DTEND;TZID=America/Denver:20250729T120000
DTSTAMP:20260420T202954
CREATED:20250529T185943Z
LAST-MODIFIED:20251117T201127Z
UID:26126-1753776000-1753790400@www.cirsa.org
SUMMARY:Safe Driving Strategies Hands On
DESCRIPTION:Pre-registration is required. \nSafe Driving Strategies: Hands-On (3 Season) – This interactive course utilizes member-owned vehicles and adequate parking lots or tracks to allow the student to practice various defensive driving tactics while validating the negative aspects of distracted driving. The length of this course is dependent on the number of students participating\, with a minimum of four hours. This course may receive CCWP Training Units.
URL:https://www.cirsa.org/event/safe-driving-strategies-hands-on-2/
LOCATION:Eaton\, Eaton\, CO
CATEGORIES:Loss Control Event
ORGANIZER;CN="Manuel Garcia":MAILTO:manuelg@cirsa.org
END:VEVENT
BEGIN:VEVENT
DTSTART;TZID=America/Denver:20250618T080000
DTEND;TZID=America/Denver:20250618T120000
DTSTAMP:20260420T202954
CREATED:20250227T184910Z
LAST-MODIFIED:20250227T184910Z
UID:25488-1750233600-1750248000@www.cirsa.org
SUMMARY:Flagger Certification
DESCRIPTION:
URL:https://www.cirsa.org/event/flagger-certification-207/
LOCATION:Castle Rock\, Castle Rock\, CO
CATEGORIES:Loss Control Event
ORGANIZER;CN="Manuel Garcia":MAILTO:manuelg@cirsa.org
END:VEVENT
BEGIN:VEVENT
DTSTART;TZID=America/Denver:20250617T080000
DTEND;TZID=America/Denver:20250617T120000
DTSTAMP:20260420T202954
CREATED:20250227T184805Z
LAST-MODIFIED:20250227T184805Z
UID:25486-1750147200-1750161600@www.cirsa.org
SUMMARY:Flagger Certification
DESCRIPTION:
URL:https://www.cirsa.org/event/flagger-certification-206/
LOCATION:Castle Rock\, Castle Rock\, CO
CATEGORIES:Loss Control Event
ORGANIZER;CN="Manuel Garcia":MAILTO:manuelg@cirsa.org
END:VEVENT
BEGIN:VEVENT
DTSTART;TZID=America/Denver:20250612T160000
DTEND;TZID=America/Denver:20250612T170000
DTSTAMP:20260420T202954
CREATED:20250529T185750Z
LAST-MODIFIED:20251117T203435Z
UID:26124-1749744000-1749747600@www.cirsa.org
SUMMARY:Slip & Fall Prevention
DESCRIPTION:Pre-registration is required. \nSlip and Fall Prevention – This course reviews causes and prevention strategies for reducing slips and falls. The goal of this program is to help reduce workers’ compensation and liability exposures. Slip and fall checklists\, ladder safety\, three-point contact\, and various other loss prevention methods are discussed. This course may receive CCWP Training Units. 1 hour.
URL:https://www.cirsa.org/event/slip-fall-prevention-2/
LOCATION:Pueblo\, Pueblo\, CO
CATEGORIES:Loss Control Event
ORGANIZER;CN="Manuel Garcia":MAILTO:manuelg@cirsa.org
END:VEVENT
BEGIN:VEVENT
DTSTART;TZID=America/Denver:20250612T130000
DTEND;TZID=America/Denver:20250612T160000
DTSTAMP:20260420T202954
CREATED:20250529T172702Z
LAST-MODIFIED:20251117T203511Z
UID:26105-1749733200-1749744000@www.cirsa.org
SUMMARY:Safe Driving Strategies Classroom
DESCRIPTION:Pre-registration is required. \nSafe Driving Strategies: A Focus on Distracted and Defensive Driving – This three-hour basic defensive driving course covers the most common forms of distracted and defensive driving. Students will use group activities to understand best practices and to evaluate our own driving habits more effectively in order to promote safe driving. This course may receive CCWP Training Units.
URL:https://www.cirsa.org/event/safe-driving-strategies-classroom-3/
LOCATION:Pueblo\, Pueblo\, CO
CATEGORIES:Loss Control Event
ORGANIZER;CN="Manuel Garcia":MAILTO:manuelg@cirsa.org
END:VEVENT
BEGIN:VEVENT
DTSTART;TZID=America/Denver:20250612T103000
DTEND;TZID=America/Denver:20250612T123000
DTSTAMP:20260420T202954
CREATED:20250529T185428Z
LAST-MODIFIED:20251117T203535Z
UID:26119-1749724200-1749731400@www.cirsa.org
SUMMARY:Confined Space Awareness
DESCRIPTION:Pre-registration is required. \nConfined Space Awareness – This two-hour classroom-based module covers the basic elements of confined space safety. Students will learn some of the best practices for permit and non-permit required confined spaces. This course may receive CCWP Training Units.
URL:https://www.cirsa.org/event/confined-space-awareness-2/
LOCATION:Pueblo\, Pueblo\, CO
CATEGORIES:Loss Control Event
ORGANIZER;CN="Manuel Garcia":MAILTO:manuelg@cirsa.org
END:VEVENT
BEGIN:VEVENT
DTSTART;TZID=America/Denver:20250612T093000
DTEND;TZID=America/Denver:20250612T103000
DTSTAMP:20260420T202954
CREATED:20250529T185240Z
LAST-MODIFIED:20251117T203604Z
UID:26117-1749720600-1749724200@www.cirsa.org
SUMMARY:Bloodborne Pathogens
DESCRIPTION:Pre-registration is required. \nBloodborne Pathogens Awareness\, Prevention & Disposal – This one hour course is designed to provide an awareness-level understanding of OSHA’S Bloodborne Pathogens Standard\, as adopted by The Colorado Department of Public Health and Environment. The course modules will cover basic program requirements with an emphasis on prevention\, spill clean-up\, and proper disposal. This course may receive CCWP Training Units.
URL:https://www.cirsa.org/event/bloodborne-pathogens-2/
LOCATION:Pueblo\, Pueblo\, CO
CATEGORIES:Loss Control Event
ORGANIZER;CN="Manuel Garcia":MAILTO:manuelg@cirsa.org
END:VEVENT
BEGIN:VEVENT
DTSTART;TZID=America/Denver:20250612T080000
DTEND;TZID=America/Denver:20250612T093000
DTSTAMP:20260420T202954
CREATED:20250529T184844Z
LAST-MODIFIED:20251117T203637Z
UID:26113-1749715200-1749720600@www.cirsa.org
SUMMARY:Chemical Handling Awareness
DESCRIPTION:Pre-registration is required. \nChemical Handling Awareness – This 90-minute course will teach how to store\, handle\, and protect yourself from chemical exposures. Topics include safety data sheets\, personal protective equipment (PPE)\, and cleaning up hazardous materials.
URL:https://www.cirsa.org/event/chemical-handling-awareness-2/
LOCATION:Pueblo\, Pueblo\, CO
CATEGORIES:Loss Control Event
ORGANIZER;CN="Manuel Garcia":MAILTO:manuelg@cirsa.org
END:VEVENT
BEGIN:VEVENT
DTSTART;TZID=America/Denver:20250611T130000
DTEND;TZID=America/Denver:20250611T140000
DTSTAMP:20260420T202954
CREATED:20250529T181239Z
LAST-MODIFIED:20251117T203704Z
UID:26109-1749646800-1749650400@www.cirsa.org
SUMMARY:Back Injury Prevention
DESCRIPTION:Pre-registration is required. \nBack Injury Prevention – This one hour course provides the student with a different understanding of how the back and core supporting structures work\, how to help prevent core injuries\, lifting techniques and how other parts of the body\, such as the feet\, directly impact core health. Students will perform lifting exercises. This course may receive CCWP Training Units.
URL:https://www.cirsa.org/event/back-injury-prevention-2/
LOCATION:Pueblo\, Pueblo\, CO
CATEGORIES:Loss Control Event
ORGANIZER;CN="Manuel Garcia":MAILTO:manuelg@cirsa.org
END:VEVENT
BEGIN:VEVENT
DTSTART;TZID=America/Denver:20250611T090000
DTEND;TZID=America/Denver:20250611T120000
DTSTAMP:20260420T202954
CREATED:20250529T172521Z
LAST-MODIFIED:20251117T203734Z
UID:26103-1749632400-1749643200@www.cirsa.org
SUMMARY:Safe Driving Strategies Classroom
DESCRIPTION:Pre-registration is required. \nSafe Driving Strategies: A Focus on Distracted and Defensive Driving – This three-hour basic defensive driving course covers the most common forms of distracted and defensive driving. Students will use group activities to understand best practices and to evaluate our own driving habits more effectively in order to promote safe driving. This course may receive CCWP Training Units.
URL:https://www.cirsa.org/event/safe-driving-strategies-classroom-2/
LOCATION:Pueblo\, Pueblo\, CO
CATEGORIES:Loss Control Event
ORGANIZER;CN="Manuel Garcia":MAILTO:manuelg@cirsa.org
END:VEVENT
BEGIN:VEVENT
DTSTART;TZID=America/Denver:20250611T080000
DTEND;TZID=America/Denver:20250611T090000
DTSTAMP:20260420T202954
CREATED:20250529T181427Z
LAST-MODIFIED:20251117T210909Z
UID:26111-1749628800-1749632400@www.cirsa.org
SUMMARY:Slip & Fall Prevention
DESCRIPTION:Pre-registration is required. \nSlip and Fall Prevention – This course reviews causes and prevention strategies for reducing slips and falls. The goal of this program is to help reduce workers’ compensation and liability exposures. Slip and fall checklists\, ladder safety\, three-point contact\, and various other loss prevention methods are discussed. This course may receive CCWP Training Units. 1 hour.
URL:https://www.cirsa.org/event/slip-fall-prevention/
LOCATION:Pueblo\, Pueblo\, CO
CATEGORIES:Loss Control Event
ORGANIZER;CN="Manuel Garcia":MAILTO:manuelg@cirsa.org
END:VEVENT
BEGIN:VEVENT
DTSTART;TZID=America/Denver:20250610T080000
DTEND;TZID=America/Denver:20250610T110000
DTSTAMP:20260420T202954
CREATED:20250529T172303Z
LAST-MODIFIED:20251117T210057Z
UID:26101-1749542400-1749553200@www.cirsa.org
SUMMARY:Safe Driving Strategies Classroom
DESCRIPTION:Pre-registration is required. \nSafe Driving Strategies: A Focus on Distracted and Defensive Driving – This three-hour basic defensive driving course covers the most common forms of distracted and defensive driving. Students will use group activities to understand best practices and to evaluate our own driving habits more effectively in order to promote safe driving. This course may receive CCWP Training Units.
URL:https://www.cirsa.org/event/safe-driving-strategies-classroom/
LOCATION:Pueblo\, Pueblo\, CO
CATEGORIES:Loss Control Event
ORGANIZER;CN="Manuel Garcia":MAILTO:manuelg@cirsa.org
END:VEVENT
BEGIN:VEVENT
DTSTART;TZID=America/Denver:20250521T100000
DTEND;TZID=America/Denver:20250521T140000
DTSTAMP:20260420T202954
CREATED:20250424T191949Z
LAST-MODIFIED:20251117T210131Z
UID:25896-1747821600-1747836000@www.cirsa.org
SUMMARY:Confined Space Entry\, Retrieval & Rescue
DESCRIPTION:Pre-registration is required. \nConfined Space Entry\, Retrieval & Rescue – This hands-on course picks up where the confined space awareness course ends. Students will practice actual confined space entries using member provided equipment and facilities. Course length is dependent on the number of attendees and will run a minimum of four hours. This course may receive CCWP Training Units.
URL:https://www.cirsa.org/event/confined-space-entry-retrieval-rescue/
LOCATION:Berthoud\, Berthoud\, CO
CATEGORIES:Loss Control Event
ORGANIZER;CN="Manuel Garcia":MAILTO:manuelg@cirsa.org
END:VEVENT
BEGIN:VEVENT
DTSTART;TZID=America/Denver:20250521T080000
DTEND;TZID=America/Denver:20250521T100000
DTSTAMP:20260420T202954
CREATED:20250424T191813Z
LAST-MODIFIED:20251117T211017Z
UID:25893-1747814400-1747821600@www.cirsa.org
SUMMARY:Confined Space Awareness
DESCRIPTION:Confined Space Awareness – This two-hour classroom-based module covers the basic elements of confined space safety. Students will learn some of the best practices for permit and non-permit required confined spaces. This course may receive CCWP Training Units.
URL:https://www.cirsa.org/event/confined-space-awareness/
LOCATION:Berthoud\, Berthoud\, CO
CATEGORIES:Loss Control Event
ORGANIZER;CN="Manuel Garcia":MAILTO:manuelg@cirsa.org
END:VEVENT
BEGIN:VEVENT
DTSTART;TZID=America/Denver:20250514T080000
DTEND;TZID=America/Denver:20250514T120000
DTSTAMP:20260420T202954
CREATED:20250224T220652Z
LAST-MODIFIED:20250224T220652Z
UID:25452-1747209600-1747224000@www.cirsa.org
SUMMARY:Flagger Certification
DESCRIPTION:
URL:https://www.cirsa.org/event/flagger-certification-205/
LOCATION:Durango\, Durango\, CO
CATEGORIES:Loss Control Event
ORGANIZER;CN="Manuel Garcia":MAILTO:manuelg@cirsa.org
END:VEVENT
BEGIN:VEVENT
DTSTART;TZID=America/Denver:20250513T130000
DTEND;TZID=America/Denver:20250513T170000
DTSTAMP:20260420T202954
CREATED:20250224T220528Z
LAST-MODIFIED:20250224T220528Z
UID:25449-1747141200-1747155600@www.cirsa.org
SUMMARY:Flagger Certification
DESCRIPTION:
URL:https://www.cirsa.org/event/flagger-certification-204/
LOCATION:Durango\, Durango\, CO
CATEGORIES:Loss Control Event
ORGANIZER;CN="Manuel Garcia":MAILTO:manuelg@cirsa.org
END:VEVENT
BEGIN:VEVENT
DTSTART;TZID=America/Denver:20250508T080000
DTEND;TZID=America/Denver:20250508T120000
DTSTAMP:20260420T202954
CREATED:20250328T165604Z
LAST-MODIFIED:20251117T211258Z
UID:25741-1746691200-1746705600@www.cirsa.org
SUMMARY:Safe Driving Strategies Hands On
DESCRIPTION:Pre-registration is required. \nSafe Driving Strategies: Hands-On (3 Season) – This interactive course utilizes member-owned vehicles and adequate parking lots or tracks to allow the student to practice various defensive driving tactics while validating the negative aspects of distracted driving. The length of this course is dependent on the number of students participating\, with a minimum of four hours. This course may receive CCWP Training Units.
URL:https://www.cirsa.org/event/safe-driving-strategies-hands-on/
LOCATION:Crested Butte\, Crested Butte\, CO\, 81224
CATEGORIES:Loss Control Event
ORGANIZER;CN="Manuel Garcia":MAILTO:manuelg@cirsa.org
GEO:38.873374;-106.987495
END:VEVENT
BEGIN:VEVENT
DTSTART;TZID=America/Denver:20250507T130000
DTEND;TZID=America/Denver:20250507T143000
DTSTAMP:20260420T202954
CREATED:20250328T165446Z
LAST-MODIFIED:20251117T211356Z
UID:25739-1746622800-1746628200@www.cirsa.org
SUMMARY:Chemical Handling Awareness
DESCRIPTION:Pre-registration is required. \nChemical Handling Awareness – This 90-minute course will teach how to store\, handle\, and protect yourself from chemical exposures. Topics include safety data sheets\, personal protective equipment (PPE)\, and cleaning up hazardous materials.
URL:https://www.cirsa.org/event/chemical-handling-awareness/
LOCATION:Crested Butte\, Crested Butte\, CO\, 81224
CATEGORIES:Loss Control Event
ORGANIZER;CN="Manuel Garcia":MAILTO:manuelg@cirsa.org
GEO:38.873374;-106.987495
END:VEVENT
BEGIN:VEVENT
DTSTART;TZID=America/Denver:20250507T080000
DTEND;TZID=America/Denver:20250507T120000
DTSTAMP:20260420T202954
CREATED:20250328T165209Z
LAST-MODIFIED:20251117T212005Z
UID:25735-1746604800-1746619200@www.cirsa.org
SUMMARY:Hazardous Operations
DESCRIPTION:Pre-registration is required. \nHazardous Operations (HAZOPS) – The HAZOPS seminars cover three of the most hazardous job categories our members face\, lockout/tagout\, confined space entry\, and excavation/trenching. These four and one-half hour awareness level seminars provide the minimum elements every employee should know prior to performing these work tasks. This course may receive CCWP Training Units.
URL:https://www.cirsa.org/event/hazardous-operations/
LOCATION:Crested Butte\, Crested Butte\, CO\, 81224
CATEGORIES:Loss Control Event
ORGANIZER;CN="Manuel Garcia":MAILTO:manuelg@cirsa.org
GEO:38.873374;-106.987495
END:VEVENT
BEGIN:VEVENT
DTSTART;TZID=America/Denver:20250506T130000
DTEND;TZID=America/Denver:20250506T140000
DTSTAMP:20260420T202954
CREATED:20250328T165052Z
LAST-MODIFIED:20251117T212045Z
UID:25733-1746536400-1746540000@www.cirsa.org
SUMMARY:Bloodborne Pathogens
DESCRIPTION:Pre-registration is required. \nBloodborne Pathogens Awareness\, Prevention & Disposal – This one hour course is designed to provide an awareness-level understanding of OSHA’S Bloodborne Pathogens Standard\, as adopted by The Colorado Department of Public Health and Environment. The course modules will cover basic program requirements with an emphasis on prevention\, spill clean-up\, and proper disposal. This course may receive CCWP Training Units.
URL:https://www.cirsa.org/event/bloodborne-pathogens/
LOCATION:Crested Butte\, Crested Butte\, CO\, 81224
CATEGORIES:Loss Control Event
ORGANIZER;CN="Manuel Garcia":MAILTO:manuelg@cirsa.org
GEO:38.873374;-106.987495
END:VEVENT
BEGIN:VEVENT
DTSTART;TZID=America/Denver:20250506T080000
DTEND;TZID=America/Denver:20250506T120000
DTSTAMP:20260420T202954
CREATED:20250328T164502Z
LAST-MODIFIED:20250328T164502Z
UID:25731-1746518400-1746532800@www.cirsa.org
SUMMARY:Flagger Certification
DESCRIPTION:
URL:https://www.cirsa.org/event/flagger-certification-2/
LOCATION:Crested Butte\, Crested Butte\, CO\, 81224
CATEGORIES:Loss Control Event
ORGANIZER;CN="Manuel Garcia":MAILTO:manuelg@cirsa.org
GEO:38.873374;-106.987495
END:VEVENT
END:VCALENDAR