BEGIN:VCALENDAR
VERSION:2.0
PRODID:-//CIRSA - ECPv6.15.17//NONSGML v1.0//EN
CALSCALE:GREGORIAN
METHOD:PUBLISH
X-ORIGINAL-URL:https://www.cirsa.org
X-WR-CALDESC:Events for CIRSA
REFRESH-INTERVAL;VALUE=DURATION:PT1H
X-Robots-Tag:noindex
X-PUBLISHED-TTL:PT1H
BEGIN:VTIMEZONE
TZID:America/Denver
BEGIN:DAYLIGHT
TZOFFSETFROM:-0700
TZOFFSETTO:-0600
TZNAME:MDT
DTSTART:20240310T090000
END:DAYLIGHT
BEGIN:STANDARD
TZOFFSETFROM:-0600
TZOFFSETTO:-0700
TZNAME:MST
DTSTART:20241103T080000
END:STANDARD
BEGIN:DAYLIGHT
TZOFFSETFROM:-0700
TZOFFSETTO:-0600
TZNAME:MDT
DTSTART:20250309T090000
END:DAYLIGHT
BEGIN:STANDARD
TZOFFSETFROM:-0600
TZOFFSETTO:-0700
TZNAME:MST
DTSTART:20251102T080000
END:STANDARD
BEGIN:DAYLIGHT
TZOFFSETFROM:-0700
TZOFFSETTO:-0600
TZNAME:MDT
DTSTART:20260308T090000
END:DAYLIGHT
BEGIN:STANDARD
TZOFFSETFROM:-0600
TZOFFSETTO:-0700
TZNAME:MST
DTSTART:20261101T080000
END:STANDARD
END:VTIMEZONE
BEGIN:VEVENT
DTSTART;TZID=America/Denver:20250717T083000
DTEND;TZID=America/Denver:20250717T123000
DTSTAMP:20260423T040910
CREATED:20250204T195653Z
LAST-MODIFIED:20251117T203338Z
UID:25327-1752741000-1752755400@www.cirsa.org
SUMMARY:Law Enforcement Roundtable - Delta
DESCRIPTION:
URL:https://www.cirsa.org/event/law-enforcement-roundtable-delta-2025/
LOCATION:Delta Police Department Conference Room\, 359 Grand Avenue\, Delta\, CO\, 81416
CATEGORIES:Loss Control Event
END:VEVENT
END:VCALENDAR